BEGIN:VCALENDAR
VERSION:2.0
PRODID:-//Coupeville Chamber - ECPv6.15.20//NONSGML v1.0//EN
CALSCALE:GREGORIAN
METHOD:PUBLISH
X-ORIGINAL-URL:https://coupevillechamber.com
X-WR-CALDESC:Events for Coupeville Chamber
REFRESH-INTERVAL;VALUE=DURATION:PT1H
X-Robots-Tag:noindex
X-PUBLISHED-TTL:PT1H
BEGIN:VTIMEZONE
TZID:America/Los_Angeles
BEGIN:DAYLIGHT
TZOFFSETFROM:-0800
TZOFFSETTO:-0700
TZNAME:PDT
DTSTART:20230312T100000
END:DAYLIGHT
BEGIN:STANDARD
TZOFFSETFROM:-0700
TZOFFSETTO:-0800
TZNAME:PST
DTSTART:20231105T090000
END:STANDARD
BEGIN:DAYLIGHT
TZOFFSETFROM:-0800
TZOFFSETTO:-0700
TZNAME:PDT
DTSTART:20240310T100000
END:DAYLIGHT
BEGIN:STANDARD
TZOFFSETFROM:-0700
TZOFFSETTO:-0800
TZNAME:PST
DTSTART:20241103T090000
END:STANDARD
BEGIN:DAYLIGHT
TZOFFSETFROM:-0800
TZOFFSETTO:-0700
TZNAME:PDT
DTSTART:20250309T100000
END:DAYLIGHT
BEGIN:STANDARD
TZOFFSETFROM:-0700
TZOFFSETTO:-0800
TZNAME:PST
DTSTART:20251102T090000
END:STANDARD
BEGIN:DAYLIGHT
TZOFFSETFROM:-0800
TZOFFSETTO:-0700
TZNAME:PDT
DTSTART:20260308T100000
END:DAYLIGHT
BEGIN:STANDARD
TZOFFSETFROM:-0700
TZOFFSETTO:-0800
TZNAME:PST
DTSTART:20261101T090000
END:STANDARD
END:VTIMEZONE
BEGIN:VEVENT
DTSTART;TZID=America/Los_Angeles:20250718T000000
DTEND;TZID=America/Los_Angeles:20250727T235959
DTSTAMP:20260423T082826
CREATED:20250703T162042Z
LAST-MODIFIED:20250703T162057Z
UID:10001886-1752796800-1753660799@coupevillechamber.com
SUMMARY:The Whidbey Playhouse Presents "Beetlejuice Jr."
DESCRIPTION:Beetlejuice Jr. (July 18-27) – Our off-season youth production is a high-energy\, spooky-fun musical based on the beloved film! Follow the misadventures of Lydia Deetz as she navigates life\, ghosts\, and an outrageous demon named Beetlejuice in this family-friendly adaptation full of humor and heart.
URL:https://coupevillechamber.com/event/the-whidbey-playhouse-presents-beetlejuice-jr/
LOCATION:Whidbey Playhouse\, 730 SE MIDWAY BLVD\, OAK HARBOR\, 98277
CATEGORIES:Arts,Community,Education,Music,Tourism
ATTACH;FMTTYPE=image/jpeg:https://coupevillechamber.com/wp-content/uploads/2025/07/Beetlejuice-Small-poster.jpeg
ORGANIZER;CN="Whidbey Playhouse":MAILTO:office@whidbeyplayhouse.com
END:VEVENT
BEGIN:VEVENT
DTSTART;TZID=America/Los_Angeles:20250606T000000
DTEND;TZID=America/Los_Angeles:20250629T235959
DTSTAMP:20260423T082826
CREATED:20250517T161308Z
LAST-MODIFIED:20250517T161315Z
UID:10001846-1749168000-1751241599@coupevillechamber.com
SUMMARY:The Whidbey Playhouse Presents "The Sound of Music"
DESCRIPTION:Set in Austria\, 1938\, a spirited governess brings music and happiness to a troubled family amid the rise of Nazi power. Based on Maria Augusta Trapp’s memoir\, it follows her journey as she cares for the von Trapp children and confronts the moral challenges of the era. Enjoy the timeless classic June 6th-29th\, 2025.\n\nPerformances:\n\nFridays and Saturdays: 7:30 PM\n\nSunday Matinee: 2:30 PM
URL:https://coupevillechamber.com/event/the-whidbey-playhouse-presents-the-sound-of-music/
LOCATION:Whidbey Playhouse\, 730 SE MIDWAY BLVD\, OAK HARBOR\, 98277
CATEGORIES:Arts,Community,Education,Music,Tourism
ATTACH;FMTTYPE=image/jpeg:https://coupevillechamber.com/wp-content/uploads/2025/05/Sound-of-Music-final-final.jpg
END:VEVENT
BEGIN:VEVENT
DTSTART;TZID=America/Los_Angeles:20250131T000000
DTEND;TZID=America/Los_Angeles:20250223T235959
DTSTAMP:20260423T082826
CREATED:20250107T200614Z
LAST-MODIFIED:20250108T153732Z
UID:10001759-1738281600-1740355199@coupevillechamber.com
SUMMARY:The Whidbey Playhouse Presents "Annie"
DESCRIPTION:Orphan Annie escapes her harsh orphanage run by Miss Hannigan to find her parents with a broken locket. Placed in the care of eccentric billionaire Oliver Warbucks\, her journey unfolds with hope and adventure. Experience the heartwarming tale January 31st-February 23rd\, 2025. No show on February 9 (Super Bowl). There will be a matinee and evening performance on February 8.\n\n 
URL:https://coupevillechamber.com/event/the-whidbey-playhouse-presents-annie/
LOCATION:Whidbey Playhouse\, 730 SE MIDWAY BLVD\, OAK HARBOR\, 98277
CATEGORIES:Arts,Community,Education,Music
ATTACH;FMTTYPE=image/png:https://coupevillechamber.com/wp-content/uploads/2025/01/Annie-Announcement-Facebook-Cover.png
END:VEVENT
BEGIN:VEVENT
DTSTART;TZID=America/Los_Angeles:20240821T000000
DTEND;TZID=America/Los_Angeles:20240830T235959
DTSTAMP:20260423T082826
CREATED:20240825T212029Z
LAST-MODIFIED:20240826T141223Z
UID:10000996-1724198400-1725062399@coupevillechamber.com
SUMMARY:Would-Be Players Youth Theatre Class Registration
DESCRIPTION:Unlock your child’s imagination and creativity by enrolling them in our Would-Be Players Youth Theatre Class! Designed for young performers of all experience levels\, our classes offer a fun\, supportive environment where kids can explore the magic of the stage. Through engaging activities and interactive performances\, they’ll build confidence\, improve communication skills\, and make lasting friendships. Whether your child dreams of being a star or just loves to express themselves\, our instructors will guide them every step of the way. Sign up today and let your child’s creativity shine on stage!
URL:https://coupevillechamber.com/event/would-be-players-youth-theatre-class-registration-2/
LOCATION:Whidbey Playhouse\, 730 SE MIDWAY BLVD\, OAK HARBOR\, 98277
CATEGORIES:Arts,Community,Education,Music
ATTACH;FMTTYPE=image/jpeg:https://coupevillechamber.com/wp-content/uploads/2024/08/Would-Be-Players-FINAL.jpeg
ORGANIZER;CN="Whidbey Playhouse":MAILTO:office@whidbeyplayhouse.com
END:VEVENT
BEGIN:VEVENT
DTSTART;TZID=America/Los_Angeles:20240809T000000
DTEND;TZID=America/Los_Angeles:20240830T235959
DTSTAMP:20260423T082826
CREATED:20240825T212010Z
LAST-MODIFIED:20240825T212010Z
UID:10000994-1723161600-1725062399@coupevillechamber.com
SUMMARY:Would-Be Players Youth Theatre Class Registration
DESCRIPTION:Unlock your child’s imagination and creativity by enrolling them in our Would-Be Players Youth Theatre Class! Designed for young performers of all experience levels\, our classes offer a fun\, supportive environment where kids can explore the magic of the stage. Through engaging activities and interactive performances\, they’ll build confidence\, improve communication skills\, and make lasting friendships. Whether your child dreams of being a star or just loves to express themselves\, our instructors will guide them every step of the way. Sign up today and let your child’s creativity shine on stage! \nIndividual class times vary. Please visit www.whidbeyplayhouse.com/education for more details.
URL:https://coupevillechamber.com/event/would-be-players-youth-theatre-class-registration/
LOCATION:Whidbey Playhouse\, 730 SE MIDWAY BLVD\, OAK HARBOR\, 98277
CATEGORIES:Arts,Community,Education,Music
ATTACH;FMTTYPE=image/png:https://coupevillechamber.com/wp-content/uploads/2024/08/would-be-players-8.5-x-11-in.png
ORGANIZER;CN="Whidbey Playhouse":MAILTO:office@whidbeyplayhouse.com
END:VEVENT
BEGIN:VEVENT
DTSTART;TZID=America/Los_Angeles:20240719T193000
DTEND;TZID=America/Los_Angeles:20240728T143000
DTSTAMP:20260423T082826
CREATED:20240607T150114Z
LAST-MODIFIED:20240607T150123Z
UID:10000902-1721417400-1722177000@coupevillechamber.com
SUMMARY:Seussical
DESCRIPTION:Dive into the whimsical world of Dr. Seuss with “Seussical the Musical\,” a colorful and energetic production that brings to life some of the author’s most beloved characters\, including Horton the Elephant\, the Cat in the Hat\, and Gertrude McFuzz. This fantastical journey is a joyful celebration of friendship\, loyalty\, and the power of imagination.
URL:https://coupevillechamber.com/event/seussical/
LOCATION:Whidbey Playhouse\, 730 SE MIDWAY BLVD\, OAK HARBOR\, 98277
CATEGORIES:Arts,Community,Music
ATTACH;FMTTYPE=image/jpeg:https://coupevillechamber.com/wp-content/uploads/2024/05/Seussical-poster.jpg
END:VEVENT
END:VCALENDAR