BEGIN:VCALENDAR
VERSION:2.0
PRODID:-//Coupeville Chamber - ECPv6.15.20//NONSGML v1.0//EN
CALSCALE:GREGORIAN
METHOD:PUBLISH
X-WR-CALNAME:Coupeville Chamber
X-ORIGINAL-URL:https://coupevillechamber.com
X-WR-CALDESC:Events for Coupeville Chamber
REFRESH-INTERVAL;VALUE=DURATION:PT1H
X-Robots-Tag:noindex
X-PUBLISHED-TTL:PT1H
BEGIN:VTIMEZONE
TZID:America/Los_Angeles
BEGIN:DAYLIGHT
TZOFFSETFROM:-0800
TZOFFSETTO:-0700
TZNAME:PDT
DTSTART:20220313T100000
END:DAYLIGHT
BEGIN:STANDARD
TZOFFSETFROM:-0700
TZOFFSETTO:-0800
TZNAME:PST
DTSTART:20221106T090000
END:STANDARD
BEGIN:DAYLIGHT
TZOFFSETFROM:-0800
TZOFFSETTO:-0700
TZNAME:PDT
DTSTART:20230312T100000
END:DAYLIGHT
BEGIN:STANDARD
TZOFFSETFROM:-0700
TZOFFSETTO:-0800
TZNAME:PST
DTSTART:20231105T090000
END:STANDARD
BEGIN:DAYLIGHT
TZOFFSETFROM:-0800
TZOFFSETTO:-0700
TZNAME:PDT
DTSTART:20240310T100000
END:DAYLIGHT
BEGIN:STANDARD
TZOFFSETFROM:-0700
TZOFFSETTO:-0800
TZNAME:PST
DTSTART:20241103T090000
END:STANDARD
END:VTIMEZONE
BEGIN:VEVENT
DTSTART;TZID=America/Los_Angeles:20230117T083000
DTEND;TZID=America/Los_Angeles:20230117T093000
DTSTAMP:20260422T204606
CREATED:20230115T161457Z
LAST-MODIFIED:20230115T161504Z
UID:10000322-1673944200-1673947800@coupevillechamber.com
SUMMARY:Member Meeting Coupeville Chamber of Commerce
DESCRIPTION:Join your fellow Chamber members for timely presentations\, discussions\, networking and announcements.  \n\n\n\nPresentation  Small Miracles  Debbie Armstrong \n\n\n\nNew Member Welcome  Let us hear about your business \n\n\n\n \n\n\n\nUpdates and Announcements from members \n\n\n\nChamber Announcements \n\n\n\nMembers – make it fun\, bring a Door Prize from your business/or bag of coffee\, plant etc.\, to offer as a giveaway . Drawing tickets $1 donation per ticket. \n\n\n\nBusiness Cards or name tag: If you have them\, bring your business cards to hand out AND to enter the drawing for a door prize.  \n\n\n\nWe also encourage members to wear their business nametags if you have them. \n\n\n\n(Masks are optional) \n\n\n\nWhy not Sponsor a Member Meeting? \n\n\n\nfor $50 (you provide the coffee and choice of breakfast snack or we can purchase it for you). You are promoted as Sponsor on member notices and give a 5 minute presentation on your business.
URL:https://coupevillechamber.com/event/member-meeting-coupeville-chamber-of-commerce-5/
LOCATION:Coupeville Library\, 788 NW Alexander St.\, Coupeville\, Washington\, 98239
ORGANIZER;CN="Coupeville Chamber of Commerce":MAILTO:info@coupevillechamber.com
END:VEVENT
BEGIN:VEVENT
DTSTART;TZID=America/Los_Angeles:20230119T140000
DTEND;TZID=America/Los_Angeles:20230119T180000
DTSTAMP:20260422T204606
CREATED:20221216T165828Z
LAST-MODIFIED:20221216T165832Z
UID:10000320-1674136800-1674151200@coupevillechamber.com
SUMMARY:Ebey's Reserve Open House
DESCRIPTION:All are welcome to an Open House to discover Ebey’s Landing National Historical Reserve and what it means to live here –  in the nation’s only National Historical Reserve. For details on this event please visit their website www.EbeysReserve.com or call 360-678-6084.
URL:https://coupevillechamber.com/event/ebeys-reserve-open-house/
LOCATION:Coupeville Rec Hall\, 901 NW Alexander St\, Coupeville\, Washington\, 98239\, United States
END:VEVENT
END:VCALENDAR