BEGIN:VCALENDAR
VERSION:2.0
PRODID:-//Coupeville Chamber - ECPv6.15.20//NONSGML v1.0//EN
CALSCALE:GREGORIAN
METHOD:PUBLISH
X-WR-CALNAME:Coupeville Chamber
X-ORIGINAL-URL:https://coupevillechamber.com
X-WR-CALDESC:Events for Coupeville Chamber
REFRESH-INTERVAL;VALUE=DURATION:PT1H
X-Robots-Tag:noindex
X-PUBLISHED-TTL:PT1H
BEGIN:VTIMEZONE
TZID:America/Los_Angeles
BEGIN:DAYLIGHT
TZOFFSETFROM:-0800
TZOFFSETTO:-0700
TZNAME:PDT
DTSTART:20240310T100000
END:DAYLIGHT
BEGIN:STANDARD
TZOFFSETFROM:-0700
TZOFFSETTO:-0800
TZNAME:PST
DTSTART:20241103T090000
END:STANDARD
BEGIN:DAYLIGHT
TZOFFSETFROM:-0800
TZOFFSETTO:-0700
TZNAME:PDT
DTSTART:20250309T100000
END:DAYLIGHT
BEGIN:STANDARD
TZOFFSETFROM:-0700
TZOFFSETTO:-0800
TZNAME:PST
DTSTART:20251102T090000
END:STANDARD
BEGIN:DAYLIGHT
TZOFFSETFROM:-0800
TZOFFSETTO:-0700
TZNAME:PDT
DTSTART:20260308T100000
END:DAYLIGHT
BEGIN:STANDARD
TZOFFSETFROM:-0700
TZOFFSETTO:-0800
TZNAME:PST
DTSTART:20261101T090000
END:STANDARD
END:VTIMEZONE
BEGIN:VEVENT
DTSTART;TZID=America/Los_Angeles:20250131T000000
DTEND;TZID=America/Los_Angeles:20250223T235959
DTSTAMP:20260420T131552
CREATED:20250107T200614Z
LAST-MODIFIED:20250108T153732Z
UID:10001759-1738281600-1740355199@coupevillechamber.com
SUMMARY:The Whidbey Playhouse Presents "Annie"
DESCRIPTION:Orphan Annie escapes her harsh orphanage run by Miss Hannigan to find her parents with a broken locket. Placed in the care of eccentric billionaire Oliver Warbucks\, her journey unfolds with hope and adventure. Experience the heartwarming tale January 31st-February 23rd\, 2025. No show on February 9 (Super Bowl). There will be a matinee and evening performance on February 8.\n\n 
URL:https://coupevillechamber.com/event/the-whidbey-playhouse-presents-annie/
LOCATION:Whidbey Playhouse\, 730 SE MIDWAY BLVD\, OAK HARBOR\, 98277
CATEGORIES:Arts,Community,Education,Music
ATTACH;FMTTYPE=image/png:https://coupevillechamber.com/wp-content/uploads/2025/01/Annie-Announcement-Facebook-Cover.png
END:VEVENT
BEGIN:VEVENT
DTSTART;TZID=America/Los_Angeles:20250211T170000
DTEND;TZID=America/Los_Angeles:20250211T183000
DTSTAMP:20260420T131552
CREATED:20250131T183838Z
LAST-MODIFIED:20250131T183841Z
UID:10001769-1739293200-1739298600@coupevillechamber.com
SUMMARY:YMCA Camp Casey Community Kickoff
DESCRIPTION:Please join us for the YMCA Camp Casey Community Kickoff on Tuesday\, February 11th\, from 5:00–6:30 PM at YMCA Camp Casey. We’re excited to introduce ourselves to the Whidbey Island community\, share our vision for local programs and services\, and explore how we can grow together. To register for this event\, please RSVP.
URL:https://coupevillechamber.com/event/ymca-camp-casey-community-kickoff/
LOCATION:Camp Casey\, 1276 Engle Road\, Coupeville\, Washington\, 98239
CATEGORIES:Community
END:VEVENT
BEGIN:VEVENT
DTSTART;TZID=America/Los_Angeles:20250212T140000
DTEND;TZID=America/Los_Angeles:20250212T153000
DTSTAMP:20260420T131552
CREATED:20250211T070222Z
LAST-MODIFIED:20250211T070225Z
UID:10001777-1739368800-1739374200@coupevillechamber.com
SUMMARY:Stop the Bleed with Central Whidbey Fire & Rescue
DESCRIPTION:Are you prepared for emergencies? \n\n\n\nThis class will show attendees how to respond to life-threatening bleeding\, and offer guidance on how to act quickly and effectively to control bleeding. Division Chief James Meek will instruct this class using props and hands on training. \n\n\n\nAnyone interested in learning this lifesaving skill is welcome to attend. Space is limited to the first 20 people in attendance.
URL:https://coupevillechamber.com/event/stop-the-bleed-with-central-whidbey-fire-rescue/
LOCATION:Coupeville Library\, 788 NW Alexander St.\, Coupeville\, Washington\, 98239
CATEGORIES:Education
END:VEVENT
BEGIN:VEVENT
DTSTART;TZID=America/Los_Angeles:20250213T093000
DTEND;TZID=America/Los_Angeles:20250213T103000
DTSTAMP:20260420T131552
CREATED:20250211T070351Z
LAST-MODIFIED:20250211T070423Z
UID:10001778-1739439000-1739442600@coupevillechamber.com
SUMMARY:Family Storytime
DESCRIPTION:Enjoy stories\, songs\, rhymes and creative activities together as a family to prepare for the wonder of reading. A play time or art activity may follow.
URL:https://coupevillechamber.com/event/family-storytime/2025-02-13/
LOCATION:Coupeville Library\, 788 NW Alexander St.\, Coupeville\, Washington\, 98239
CATEGORIES:Community
END:VEVENT
BEGIN:VEVENT
DTSTART;TZID=America/Los_Angeles:20250214T000000
DTEND;TZID=America/Los_Angeles:20250222T235959
DTSTAMP:20260420T131552
CREATED:20250213T235459Z
LAST-MODIFIED:20250213T235502Z
UID:10001798-1739491200-1740268799@coupevillechamber.com
SUMMARY:Glass Quest
DESCRIPTION:Mark your Calendar for the greatest treasure hunt in the Pacific Northwest! Come to Stanwood and Camano Island to search for clue balls throughout businesses and parks – find one and you win a unique hand-blown glass ball. This is a 10 Day Event with over 400 Glass Balls – there are many other treasurers to be found in our participating businesses and community sites – we invite you to SEEK ART and BE KIND!Presented by the Camano Island Chamber of Commerce.For detailed information about the event visit www.northwestglassquest.com
URL:https://coupevillechamber.com/event/glass-quest/
LOCATION:Stanwood and Camano Island\, Camano Island\, Washington
END:VEVENT
BEGIN:VEVENT
DTSTART;TZID=America/Los_Angeles:20250214T100000
DTEND;TZID=America/Los_Angeles:20250214T180000
DTSTAMP:20260420T131552
CREATED:20250204T200651Z
LAST-MODIFIED:20250204T200658Z
UID:10001773-1739527200-1739556000@coupevillechamber.com
SUMMARY:Kingfisher Books and Arts and Letters Shop Out for Kids - Businesses donating to help Students
DESCRIPTION:Kingfisher Books and Arts and Letters will donate a portion of the day’s sales to the Coupeville Foundation.  For store information please visit www.kingfisherbookstore.com 360-678-8463. \n\n\n\n \n\n\n\nThe Coupeville Schools Foundation provides an extra measure of support to students through teacher grants\, college scholarships and the Promise Fund.  Learn more at www.4coupevilleschools.org
URL:https://coupevillechamber.com/event/kingfisher-books-and-arts-and-letters-shop-out-for-kids-businesses-donating-to-help-students/
LOCATION:Kingfisher Books\, 16 Front Street\, Coupeville\, Washington\, 98239
END:VEVENT
BEGIN:VEVENT
DTSTART;TZID=America/Los_Angeles:20250214T110000
DTEND;TZID=America/Los_Angeles:20250214T170000
DTSTAMP:20260420T131552
CREATED:20250211T210149Z
LAST-MODIFIED:20250211T210153Z
UID:10001790-1739530800-1739552400@coupevillechamber.com
SUMMARY:Spirit and Chocolate Tasting at Whidbey Island Distillery
DESCRIPTION:Valentines Weekend tasting flyer 2025Download
URL:https://coupevillechamber.com/event/spirit-and-chocolate-tasting-at-whidbey-island-distillery/
LOCATION:Whidbey Island Distillery\, 3466 Craw Road\, Langley\, Washington
END:VEVENT
BEGIN:VEVENT
DTSTART;TZID=America/Los_Angeles:20250214T130000
DTEND;TZID=America/Los_Angeles:20250214T140000
DTSTAMP:20260420T131552
CREATED:20250131T182406Z
LAST-MODIFIED:20250131T182414Z
UID:10001764-1739538000-1739541600@coupevillechamber.com
SUMMARY:Filing and Paying Taxes Electronically Workshop
DESCRIPTION:With all the new tech and tools out there\, it might be time to look at how you file. Learn the actual steps to paying electronically\, how the systems work\, and what benefits the IRS offers. \n\n\n\nGoosefoot is proud to partner with David Higgins\, liaison with the IRS\, to answer pressing tax questions in an approachable\, usable way! These workshops are open to everyone; bring your lunch and your questions\, and learn how the IRS can help you\, not scare you! These workshops are geared to business taxes\, and will not discuss personal taxes or private information. \n\n\n\nRSVPs encouraged: email sami@goosefoot.org to register\,or visit goosefoot.org/workshops for more information
URL:https://coupevillechamber.com/event/filing-and-paying-taxes-electronically-workshop/
LOCATION:Bayview Cash Store\, 5603 Bayview Road\, Langley\, Washington\, 98249\, United States
CATEGORIES:Education
END:VEVENT
BEGIN:VEVENT
DTSTART;TZID=America/Los_Angeles:20250215T100000
DTEND;TZID=America/Los_Angeles:20250215T120000
DTSTAMP:20260420T131552
CREATED:20250211T065351Z
LAST-MODIFIED:20250211T065355Z
UID:10001774-1739613600-1739620800@coupevillechamber.com
SUMMARY:Fruit Tree and Vine Pruning Workshop
DESCRIPTION:The vine and tree pruning workshop is almost full\, but there is still space in the other workshops\, including a fifth workshop on growing figs in Maritime Washington. \n\n\n\nAll workshops will be lead by Dan Vorhis of Muscle and Arm Farm. Dan has about 45 years of experience in fruit horticulture.  \n\n\n\nAll workshops are $25 in advance and $30 at the door. You can register for any of them here.
URL:https://coupevillechamber.com/event/fruit-tree-and-vine-pruning-workshop/
LOCATION:Pacific Rim Institute\, 180 Parker Road\, Coueville\, Washington\, 98239
CATEGORIES:Education
END:VEVENT
BEGIN:VEVENT
DTSTART;TZID=America/Los_Angeles:20250215T110000
DTEND;TZID=America/Los_Angeles:20250215T170000
DTSTAMP:20260420T131552
CREATED:20250211T210356Z
LAST-MODIFIED:20250211T210359Z
UID:10001791-1739617200-1739638800@coupevillechamber.com
SUMMARY:Spirit and Chocolate Tasting at Whidbey Island Distillery
DESCRIPTION:Valentines Weekend tasting flyer 2025Download
URL:https://coupevillechamber.com/event/spirit-and-chocolate-tasting-at-whidbey-island-distillery-2/
LOCATION:Whidbey Island Distillery\, 3466 Craw Road\, Langley\, Washington
END:VEVENT
END:VCALENDAR