BEGIN:VCALENDAR
VERSION:2.0
PRODID:-//Coupeville Chamber - ECPv6.15.20//NONSGML v1.0//EN
CALSCALE:GREGORIAN
METHOD:PUBLISH
X-ORIGINAL-URL:https://coupevillechamber.com
X-WR-CALDESC:Events for Coupeville Chamber
REFRESH-INTERVAL;VALUE=DURATION:PT1H
X-Robots-Tag:noindex
X-PUBLISHED-TTL:PT1H
BEGIN:VTIMEZONE
TZID:America/Los_Angeles
BEGIN:DAYLIGHT
TZOFFSETFROM:-0800
TZOFFSETTO:-0700
TZNAME:PDT
DTSTART:20240310T100000
END:DAYLIGHT
BEGIN:STANDARD
TZOFFSETFROM:-0700
TZOFFSETTO:-0800
TZNAME:PST
DTSTART:20241103T090000
END:STANDARD
BEGIN:DAYLIGHT
TZOFFSETFROM:-0800
TZOFFSETTO:-0700
TZNAME:PDT
DTSTART:20250309T100000
END:DAYLIGHT
BEGIN:STANDARD
TZOFFSETFROM:-0700
TZOFFSETTO:-0800
TZNAME:PST
DTSTART:20251102T090000
END:STANDARD
BEGIN:DAYLIGHT
TZOFFSETFROM:-0800
TZOFFSETTO:-0700
TZNAME:PDT
DTSTART:20260308T100000
END:DAYLIGHT
BEGIN:STANDARD
TZOFFSETFROM:-0700
TZOFFSETTO:-0800
TZNAME:PST
DTSTART:20261101T090000
END:STANDARD
END:VTIMEZONE
BEGIN:VEVENT
DTSTART;TZID=America/Los_Angeles:20250131T000000
DTEND;TZID=America/Los_Angeles:20250223T235959
DTSTAMP:20260419T184717
CREATED:20250107T200614Z
LAST-MODIFIED:20250108T153732Z
UID:10001759-1738281600-1740355199@coupevillechamber.com
SUMMARY:The Whidbey Playhouse Presents "Annie"
DESCRIPTION:Orphan Annie escapes her harsh orphanage run by Miss Hannigan to find her parents with a broken locket. Placed in the care of eccentric billionaire Oliver Warbucks\, her journey unfolds with hope and adventure. Experience the heartwarming tale January 31st-February 23rd\, 2025. No show on February 9 (Super Bowl). There will be a matinee and evening performance on February 8.\n\n 
URL:https://coupevillechamber.com/event/the-whidbey-playhouse-presents-annie/
LOCATION:Whidbey Playhouse\, 730 SE MIDWAY BLVD\, OAK HARBOR\, 98277
CATEGORIES:Arts,Community,Education,Music
ATTACH;FMTTYPE=image/png:https://coupevillechamber.com/wp-content/uploads/2025/01/Annie-Announcement-Facebook-Cover.png
END:VEVENT
BEGIN:VEVENT
DTSTART;TZID=America/Los_Angeles:20250224T093000
DTEND;TZID=America/Los_Angeles:20250224T103000
DTSTAMP:20260419T184717
CREATED:20250211T071105Z
LAST-MODIFIED:20250211T071108Z
UID:10001784-1740389400-1740393000@coupevillechamber.com
SUMMARY:Stay and Play
DESCRIPTION:This is an opportunity for children\, birth to kindergarten\, and their caregivers to come play with fun and educational toys provided by the library. During this hour\, caregivers and children will engage in in-person play\, socialize with others\, and reconnect with the library. Drop in anytime during this event.
URL:https://coupevillechamber.com/event/stay-and-play/
LOCATION:Coupeville Library\, 788 NW Alexander St.\, Coupeville\, Washington\, 98239
CATEGORIES:Community
END:VEVENT
BEGIN:VEVENT
DTSTART;TZID=America/Los_Angeles:20250225T084500
DTEND;TZID=America/Los_Angeles:20250225T100000
DTSTAMP:20260419T184717
CREATED:20250204T194751Z
LAST-MODIFIED:20250214T175156Z
UID:10001772-1740473100-1740477600@coupevillechamber.com
SUMMARY:Good Morning Coupeville - Chamber Member Meeting
DESCRIPTION:LIsa Bernhardt will be our speaker this month. Join your fellow Chamber members to hear her presentation on the Creative District\, learn all about the upcoming events\, and connect with your fellow business members. 8:45 networking\, 9:00 meeting.  \n\n\n\n \n\n\n\nQuestions? call 360-678-5434 or email info@coupevillechamber.com
URL:https://coupevillechamber.com/event/new-location-good-morning-coupeville-chamber-member-meeting/
LOCATION:Coupeville Library\, 788 NW Alexander St.\, Coupeville\, Washington\, 98239
ORGANIZER;CN="Coupeville Chamber of Commerce":MAILTO:info@coupevillechamber.com
END:VEVENT
BEGIN:VEVENT
DTSTART;TZID=America/Los_Angeles:20250225T100000
DTEND;TZID=America/Los_Angeles:20250225T120000
DTSTAMP:20260419T184717
CREATED:20250211T065949Z
LAST-MODIFIED:20250211T065952Z
UID:10001776-1740477600-1740484800@coupevillechamber.com
SUMMARY:Mukilteo Coffee Roasters Tour
DESCRIPTION:Join us on Tuesday\, February 25th for a Mukilteo Coffee Roasters Tour\, followed by a tasting of a few selections of brewed coffee and small pastries from Coffee At Dawn\, the café in the woods next door to Mukilteo Coffee Roasters. A great way to start a cold winter’s day! There is no charge for this event. If you would like to attend\, email us at info.sfwi@gmail.com. Space is limited.
URL:https://coupevillechamber.com/event/mukilteo-coffee-roasters-tour/
LOCATION:Washington
CATEGORIES:Food
END:VEVENT
BEGIN:VEVENT
DTSTART;TZID=America/Los_Angeles:20250227T093000
DTEND;TZID=America/Los_Angeles:20250227T103000
DTSTAMP:20260419T184717
CREATED:20250211T070351Z
LAST-MODIFIED:20250211T070423Z
UID:10001780-1740648600-1740652200@coupevillechamber.com
SUMMARY:Family Storytime
DESCRIPTION:Enjoy stories\, songs\, rhymes and creative activities together as a family to prepare for the wonder of reading. A play time or art activity may follow.
URL:https://coupevillechamber.com/event/family-storytime/2025-02-27/
LOCATION:Coupeville Library\, 788 NW Alexander St.\, Coupeville\, Washington\, 98239
CATEGORIES:Community
END:VEVENT
BEGIN:VEVENT
DTSTART;TZID=America/Los_Angeles:20250228T130000
DTEND;TZID=America/Los_Angeles:20250228T150000
DTSTAMP:20260419T184717
CREATED:20250131T182547Z
LAST-MODIFIED:20250131T182551Z
UID:10001765-1740747600-1740754800@coupevillechamber.com
SUMMARY:Business Use of Your Home Workshop
DESCRIPTION:If you run a small business\, odds are you’re using your home—whether as an office\, a warehouse\, or even more. Make sure you’re getting the best tax benefit back\, and everything you need to know about how to claim the deduction. \n\n\n\nGoosefoot is proud to partner with David Higgins\, liaison with the IRS\, to answer pressing tax questions in an approachable\, usable way! These workshops are open to everyone; bring your lunch and your questions\, and learn how the IRS can help you\, not scare you! These workshops are geared to business taxes\, and will not discuss personal taxes or private information. \n\n\n\nRSVPs encouraged: email sami@goosefoot.org to register\,or visit goosefoot.org/workshops for more information
URL:https://coupevillechamber.com/event/business-use-of-your-home-workshop/
LOCATION:Bayview Cash Store\, 5603 Bayview Road\, Langley\, Washington\, 98249\, United States
CATEGORIES:Education
END:VEVENT
END:VCALENDAR