BEGIN:VCALENDAR
VERSION:2.0
PRODID:-//Coupeville Chamber - ECPv6.15.20//NONSGML v1.0//EN
CALSCALE:GREGORIAN
METHOD:PUBLISH
X-ORIGINAL-URL:https://coupevillechamber.com
X-WR-CALDESC:Events for Coupeville Chamber
REFRESH-INTERVAL;VALUE=DURATION:PT1H
X-Robots-Tag:noindex
X-PUBLISHED-TTL:PT1H
BEGIN:VTIMEZONE
TZID:America/Los_Angeles
BEGIN:DAYLIGHT
TZOFFSETFROM:-0800
TZOFFSETTO:-0700
TZNAME:PDT
DTSTART:20240310T100000
END:DAYLIGHT
BEGIN:STANDARD
TZOFFSETFROM:-0700
TZOFFSETTO:-0800
TZNAME:PST
DTSTART:20241103T090000
END:STANDARD
BEGIN:DAYLIGHT
TZOFFSETFROM:-0800
TZOFFSETTO:-0700
TZNAME:PDT
DTSTART:20250309T100000
END:DAYLIGHT
BEGIN:STANDARD
TZOFFSETFROM:-0700
TZOFFSETTO:-0800
TZNAME:PST
DTSTART:20251102T090000
END:STANDARD
BEGIN:DAYLIGHT
TZOFFSETFROM:-0800
TZOFFSETTO:-0700
TZNAME:PDT
DTSTART:20260308T100000
END:DAYLIGHT
BEGIN:STANDARD
TZOFFSETFROM:-0700
TZOFFSETTO:-0800
TZNAME:PST
DTSTART:20261101T090000
END:STANDARD
END:VTIMEZONE
BEGIN:VEVENT
DTSTART;TZID=America/Los_Angeles:20250304T180000
DTEND;TZID=America/Los_Angeles:20250304T190000
DTSTAMP:20260420T052300
CREATED:20250211T071353Z
LAST-MODIFIED:20250211T071357Z
UID:10001785-1741111200-1741114800@coupevillechamber.com
SUMMARY:Make Your Property More Fire Resistant
DESCRIPTION:Coupeville’s Neighborhood Emergency Team (NET) has arranged a presentation of Fire Risk Assessment of the Town of Coupeville\, beginning at 6 PM in the Coupeville Rec Hall. \n\n\n\nThis nationally recognized Fire Wise risk assessment will be presented by the Island County Conservation District and the Department of Natural Resources.
URL:https://coupevillechamber.com/event/make-your-property-more-fire-resistant/
LOCATION:Coupeville Rec Hall\, 901 NW Alexander St\, Coupeville\, Washington\, 98239\, United States
CATEGORIES:Education
END:VEVENT
BEGIN:VEVENT
DTSTART;TZID=America/Los_Angeles:20250306T180000
DTEND;TZID=America/Los_Angeles:20250306T200000
DTSTAMP:20260420T052300
CREATED:20250228T101615Z
LAST-MODIFIED:20250228T101620Z
UID:10001826-1741284000-1741291200@coupevillechamber.com
SUMMARY:Whidbey Island Real Estate Investors meeting
DESCRIPTION:Come join active local Whidbey real estate investors at our next WIREI meeting. We will meet at new local small business Whidbey Provisions and meet the owners\, then roundtable with informal introductions and any haves/wants\, and then two local experts will educate us on how to leverage home equity for real estate investing plus how to obtain the best commercial property financing for your various investment scenarios. Quick tasty food will be available for sale at the cafe. Meeting is free to participate.
URL:https://coupevillechamber.com/event/whidbey-island-real-estate-investors-meeting/
LOCATION:Whidbey Provisions\, 105 S Main Street\, Coupeville\, Washington\, 98239\, United States
CATEGORIES:Education
ORGANIZER;CN="Bonvolo Real Estate":MAILTO:Scott@Bonvolo.com
END:VEVENT
BEGIN:VEVENT
DTSTART;TZID=America/Los_Angeles:20250307T200000
DTEND;TZID=America/Los_Angeles:20250307T230000
DTSTAMP:20260420T052300
CREATED:20250211T072205Z
LAST-MODIFIED:20250211T072210Z
UID:10001786-1741377600-1741388400@coupevillechamber.com
SUMMARY:Karaoke with Kristo
DESCRIPTION:
URL:https://coupevillechamber.com/event/karaoke-with-kristo/
LOCATION:Whidbey Tides & Taps\, 103 S Main Street\, Coupeville\, Washington\, 98239\, United States
CATEGORIES:Music
ATTACH;FMTTYPE=image/png:https://coupevillechamber.com/wp-content/uploads/2025/02/MusselFest-Weekend-Karaoke-March-7-2025-1.png
END:VEVENT
BEGIN:VEVENT
DTSTART;TZID=America/Los_Angeles:20250308T110000
DTEND;TZID=America/Los_Angeles:20250309T150000
DTSTAMP:20260420T052300
CREATED:20250131T185130Z
LAST-MODIFIED:20250211T065710Z
UID:10001771-1741431600-1741532400@coupevillechamber.com
SUMMARY:Penn Cove Musselfest
DESCRIPTION:
URL:https://coupevillechamber.com/event/penn-cove-musselfest-2/
LOCATION:Historic Downtown Coupeville\, Front & Coveland Streets\, Coupeville\, Washington\, 98239\, United States
CATEGORIES:Community,Festivals,Food
ATTACH;FMTTYPE=image/jpeg:https://coupevillechamber.com/wp-content/uploads/2025/01/MFESTposter-DRAFT5-1.jpg
END:VEVENT
BEGIN:VEVENT
DTSTART;TZID=America/Los_Angeles:20250308T120000
DTEND;TZID=America/Los_Angeles:20250308T200000
DTSTAMP:20260420T052300
CREATED:20250211T072415Z
LAST-MODIFIED:20250211T072420Z
UID:10001787-1741435200-1741464000@coupevillechamber.com
SUMMARY:Free Local Music
DESCRIPTION:Noon: Sage Hayes \n\n\n\n2 PM: Tripp’N Gypsy’s \n\n\n\n3:30 PM: The Kristo Kentastrophy \n\n\n\n5:30 PM: Jungle Rooster \n\n\n\n8 PM: Ike & the Old Man
URL:https://coupevillechamber.com/event/free-local-music/
LOCATION:Whidbey Tides & Taps\, 103 S Main Street\, Coupeville\, Washington\, 98239\, United States
CATEGORIES:Music
ATTACH;FMTTYPE=image/png:https://coupevillechamber.com/wp-content/uploads/2025/02/MusselFest-poster-Sat-March-8th-2025.png
END:VEVENT
BEGIN:VEVENT
DTSTART;TZID=America/Los_Angeles:20250308T190000
DTEND;TZID=America/Los_Angeles:20250308T210000
DTSTAMP:20260420T052300
CREATED:20250222T193805Z
LAST-MODIFIED:20250222T193814Z
UID:10001812-1741460400-1741467600@coupevillechamber.com
SUMMARY:Saratoga Orchestra presents:          Nature (Re) Awaken
DESCRIPTION:Enjoy a breath of spring as the Saratoga Orchestra plays works by Louise Farrenc\, Samuel Coleridge-Taylor\, Joe Jaxson and Antonin Dvorak.  For more information on the program and where to buy tickets please visit www.sowhidbey.com
URL:https://coupevillechamber.com/event/saratoga-orchestra-presents-nature-re-awaken/
LOCATION:South Whidbey High School\, 5675 Maxwelton Rd\, Langley\, Washington\, 98260
END:VEVENT
BEGIN:VEVENT
DTSTART;TZID=America/Los_Angeles:20250308T190000
DTEND;TZID=America/Los_Angeles:20250308T210000
DTSTAMP:20260420T052300
CREATED:20250228T101110Z
LAST-MODIFIED:20250228T101115Z
UID:10001825-1741460400-1741467600@coupevillechamber.com
SUMMARY:Nature (Re)Awaken with Whidbey’s Saratoga Orchestra
DESCRIPTION:Whidbey’s Saratoga Orchestra\, under the leadership of conductor Anna Edwards\, is inviting the community to celebrate the anticipated vibrant arrival of spring with its upcoming concert\, Nature (Re)Awaken: A Celebration of Nature and Music. As we begin our transition into the blooming season\, the orchestra has curated a dynamic program filled with pieces that evoke the spirit of spring. Performances are March 8\, 7pm at South Whidbey High School and March 9\, 2pm at Oak Harbor High School.  \n\n\n\nThe concert will feature Louise Farrenc’s Overture No. 1\, a rarely performed gem by one of the 19th century’s most gifted composers; Samuel Coleridge-Taylor’s Idyll\, a lyrical and tranquil composition for full orchestra; Joe Jaxson’s Through the Bay\, a newly composed work inspired by the composer’s ferry ride across the waters of Puget Sound; and concludes with Antonín Dvořák’s Symphony No. 8\, a lush symphonic masterpiece that captures the splendor of nature in its rich orchestration and melody. In addition to the music\, former classical music radio host Marta Zekan will share captivating stories and commentary throughout the performance\, enriching the experience with her personal touch. \n\n\n\nTickets are priced at $30 for adults\, $25 for seniors (65+) and military members\, and free for students (17 and under). Tickets are available for purchase at local vendors\, including Moonraker Books in Langley\, Biercuterie in Freeland\, Bayleaf in Coupeville\, and Click Music in Oak Harbor. Tickets can also be purchased online\, with further details available at www.sowhidbey.com or by calling 360-929-3045.
URL:https://coupevillechamber.com/event/nature-reawaken-with-whidbeys-saratoga-orchestra/
LOCATION:South Whidbey High School\, 5675 Maxwelton Rd\, Langley\, Washington\, 98260
CATEGORIES:Music
END:VEVENT
END:VCALENDAR