BEGIN:VCALENDAR
VERSION:2.0
PRODID:-//Coupeville Chamber - ECPv6.15.20//NONSGML v1.0//EN
CALSCALE:GREGORIAN
METHOD:PUBLISH
X-ORIGINAL-URL:https://coupevillechamber.com
X-WR-CALDESC:Events for Coupeville Chamber
REFRESH-INTERVAL;VALUE=DURATION:PT1H
X-Robots-Tag:noindex
X-PUBLISHED-TTL:PT1H
BEGIN:VTIMEZONE
TZID:America/Los_Angeles
BEGIN:DAYLIGHT
TZOFFSETFROM:-0800
TZOFFSETTO:-0700
TZNAME:PDT
DTSTART:20240310T100000
END:DAYLIGHT
BEGIN:STANDARD
TZOFFSETFROM:-0700
TZOFFSETTO:-0800
TZNAME:PST
DTSTART:20241103T090000
END:STANDARD
BEGIN:DAYLIGHT
TZOFFSETFROM:-0800
TZOFFSETTO:-0700
TZNAME:PDT
DTSTART:20250309T100000
END:DAYLIGHT
BEGIN:STANDARD
TZOFFSETFROM:-0700
TZOFFSETTO:-0800
TZNAME:PST
DTSTART:20251102T090000
END:STANDARD
BEGIN:DAYLIGHT
TZOFFSETFROM:-0800
TZOFFSETTO:-0700
TZNAME:PDT
DTSTART:20260308T100000
END:DAYLIGHT
BEGIN:STANDARD
TZOFFSETFROM:-0700
TZOFFSETTO:-0800
TZNAME:PST
DTSTART:20261101T090000
END:STANDARD
END:VTIMEZONE
BEGIN:VEVENT
DTSTART;TZID=America/Los_Angeles:20250817T000000
DTEND;TZID=America/Los_Angeles:20250817T235959
DTSTAMP:20260419T211428
CREATED:20250628T191804Z
LAST-MODIFIED:20250628T191808Z
UID:10001879-1755388800-1755475199@coupevillechamber.com
SUMMARY:Whidbey Plein Air Paint Out - Pacific NW Art School
DESCRIPTION:Come purchase Plein Air Art and view all of the wonderful works created by the Plein Air artists. For more information please visit pacificnorthwestartschool.org.
URL:https://coupevillechamber.com/event/whidbey-plein-air-paint-out-pacific-nw-art-school-3/
LOCATION:Pacific NW Art School\, Coupeville\, Washington\, 98239
END:VEVENT
BEGIN:VEVENT
DTSTART;TZID=America/Los_Angeles:20250820T160000
DTEND;TZID=America/Los_Angeles:20250820T180000
DTSTAMP:20260419T211428
CREATED:20250609T192028Z
LAST-MODIFIED:20250609T192033Z
UID:10001869-1755705600-1755712800@coupevillechamber.com
SUMMARY:Coupeville Wednesday Busker Series
DESCRIPTION:Join us on the Coupeville Wharf each Wednesday this summer to hear amazing music from  all types of genres.
URL:https://coupevillechamber.com/event/coupeville-wednesday-busker-series/2025-08-20/
LOCATION:Historic Downtown Coupeville\, Front & Coveland Streets\, Coupeville\, Washington\, 98239\, United States
END:VEVENT
BEGIN:VEVENT
DTSTART;TZID=America/Los_Angeles:20250821T110000
DTEND;TZID=America/Los_Angeles:20250821T130000
DTSTAMP:20260419T211428
CREATED:20250724T174609Z
LAST-MODIFIED:20250724T174615Z
UID:10001891-1755774000-1755781200@coupevillechamber.com
SUMMARY:Grand Opening - Pacific NW Naval Air Museum
DESCRIPTION:﻿After 14 years at our Pioneer Way location\, we’re finally moving into our permanent home on Ault Field Road!  \n\n\n\nJoin us for our Grand Opening and Ribbon Cutting  \n\n\n\nwith Free Museum Admission for all attendees! \n\n\n\nWe look forward to seeing you there!
URL:https://coupevillechamber.com/event/grand-opening-pacific-nw-naval-air-museum/
LOCATION:Pacific NW Naval Air Museum\, 545 Ault Field Road Building D\, Oak Harbor\, Washington
END:VEVENT
BEGIN:VEVENT
DTSTART;TZID=America/Los_Angeles:20250823T000000
DTEND;TZID=America/Los_Angeles:20250824T235959
DTSTAMP:20260419T211428
CREATED:20250726T182648Z
LAST-MODIFIED:20250726T182656Z
UID:10001894-1755907200-1756079999@coupevillechamber.com
SUMMARY:"Blithe Spirit" Auditions
DESCRIPTION: \n\nWhidbey Playhouse is excited to announce auditions for Noël Coward’s classic comedic farce\, Blithe Spirit! This witty and supernatural play offers a delightful blend of sharp dialogue\, eccentric characters\, and ghostly mischief.\n\nAudition Dates: Saturday\, August 23 & Sunday\, August 24.\nTime:  8/23 1-3 pm\, 8/24 12-2 pm\nLocation: STAR Studio\, Whidbey Playhouse\n\nDirected by Dave Frazer\, Blithe Spirit tells the story of Charles Condomine\, a novelist who invites a medium to conduct a séance for research purposes—only to summon the ghost of his late wife\, Elvira\, accidentally. Chaos ensues when Elvira sets out to disrupt his current marriage to the very-much-alive Ruth.\n\nWe are seeking a diverse cast of performers with strong comedic timing and a flair for the absurd. Roles available include:\n\n 	Charles Condomine – a charming yet conflicted writer.\n 	Ruth Condomine – Charles’ practical and witty second wife.\n 	Elvira – the glamorous and mischievous ghost.\n 	Madame Arcati – an eccentric and energetic medium.\n 	Plus three supporting roles\n\nCold readings from the script will be provided. **Bring your best British accent!**\n\nFor more information\, contact the Whidbey Playhouse office at office@whidbeyplayhouse.com. We can’t wait to see you bring this spirited comedy to life!
URL:https://coupevillechamber.com/event/blithe-spirit-auditions/
LOCATION:Whidbey Playhouse\, 730 SE MIDWAY BLVD\, OAK HARBOR\, 98277
CATEGORIES:Arts,Community
ORGANIZER;CN="Whidbey Playhouse":MAILTO:office@whidbeyplayhouse.com
END:VEVENT
BEGIN:VEVENT
DTSTART;TZID=America/Los_Angeles:20250823T130000
DTEND;TZID=America/Los_Angeles:20250823T150000
DTSTAMP:20260419T211428
CREATED:20250707T222258Z
LAST-MODIFIED:20250707T222303Z
UID:10001887-1755954000-1755961200@coupevillechamber.com
SUMMARY:Wander/Wonder a sculptured dance happening at Price Sculpture Forest
DESCRIPTION:Experience art in nature like never before: Professional\, national caliber dancers will converge upon the Sculpture Forest to perform choreography created specifically for this event and the park’s sculptures\, which will have their stories expanded through movement and music. \n\n\n\n$20 suggested donation.  No reservations required.   \n\n\n\nSaturday August 23\, 2025 1:00-3:00pm
URL:https://coupevillechamber.com/event/wander-wonder-a-sculptured-dance-happening-at-price-sculpture-forest/
LOCATION:Price Sculpture Forest\, 678 Parker Road\, Coupeville\, Washington\, 98239
END:VEVENT
END:VCALENDAR