BEGIN:VCALENDAR
VERSION:2.0
PRODID:-//Coupeville Chamber - ECPv6.15.20//NONSGML v1.0//EN
CALSCALE:GREGORIAN
METHOD:PUBLISH
X-WR-CALNAME:Coupeville Chamber
X-ORIGINAL-URL:https://coupevillechamber.com
X-WR-CALDESC:Events for Coupeville Chamber
REFRESH-INTERVAL;VALUE=DURATION:PT1H
X-Robots-Tag:noindex
X-PUBLISHED-TTL:PT1H
BEGIN:VTIMEZONE
TZID:America/Los_Angeles
BEGIN:DAYLIGHT
TZOFFSETFROM:-0800
TZOFFSETTO:-0700
TZNAME:PDT
DTSTART:20240310T100000
END:DAYLIGHT
BEGIN:STANDARD
TZOFFSETFROM:-0700
TZOFFSETTO:-0800
TZNAME:PST
DTSTART:20241103T090000
END:STANDARD
BEGIN:DAYLIGHT
TZOFFSETFROM:-0800
TZOFFSETTO:-0700
TZNAME:PDT
DTSTART:20250309T100000
END:DAYLIGHT
BEGIN:STANDARD
TZOFFSETFROM:-0700
TZOFFSETTO:-0800
TZNAME:PST
DTSTART:20251102T090000
END:STANDARD
BEGIN:DAYLIGHT
TZOFFSETFROM:-0800
TZOFFSETTO:-0700
TZNAME:PDT
DTSTART:20260308T100000
END:DAYLIGHT
BEGIN:STANDARD
TZOFFSETFROM:-0700
TZOFFSETTO:-0800
TZNAME:PST
DTSTART:20261101T090000
END:STANDARD
END:VTIMEZONE
BEGIN:VEVENT
DTSTART;TZID=America/Los_Angeles:20250905T000000
DTEND;TZID=America/Los_Angeles:20250928T235959
DTSTAMP:20260420T122006
CREATED:20250726T182737Z
LAST-MODIFIED:20250726T182742Z
UID:10001893-1757030400-1759103999@coupevillechamber.com
SUMMARY:Whidbey Playhouse Presents “Calendar Girls”
DESCRIPTION:This heartwarming and hilarious play tells the true story of a group of women who take an unconventional approach to fundraising by creating a tastefully daring calendar. A story of friendship\, courage\, and embracing life\, this comedy will have you laughing and cheering.\n\nSeptember 5-28\, 2025\n\nFridays and Saturdays\, 7:30pm\n\nSundays\, 2:30pm
URL:https://coupevillechamber.com/event/whidbey-playhouse-presents-calendar-girls/
LOCATION:Whidbey Playhouse\, 730 SE MIDWAY BLVD\, OAK HARBOR\, 98277
CATEGORIES:Arts,Community
END:VEVENT
BEGIN:VEVENT
DTSTART;TZID=America/Los_Angeles:20250914T100000
DTEND;TZID=America/Los_Angeles:20250914T110000
DTSTAMP:20260420T122006
CREATED:20250913T182232Z
LAST-MODIFIED:20250913T182236Z
UID:10001915-1757844000-1757847600@coupevillechamber.com
SUMMARY:Sunday Storytime at the Kingfisher Bookstore
DESCRIPTION:Young and old will enjoy the magic of hearing familiar or new stories. There are arts and crafts after every story.  The book this week is “Millie Fleur Saves the Night.”
URL:https://coupevillechamber.com/event/sunday-storytime-at-the-kingfisher-bookstore/
LOCATION:Kingfisher Books\, 16 Front Street\, Coupeville\, Washington\, 98239
END:VEVENT
BEGIN:VEVENT
DTSTART;TZID=America/Los_Angeles:20250914T120000
DTEND;TZID=America/Los_Angeles:20250914T143000
DTSTAMP:20260420T122006
CREATED:20250905T162034Z
LAST-MODIFIED:20250905T162039Z
UID:10001897-1757851200-1757860200@coupevillechamber.com
SUMMARY:Historic Home Tour and Reception
DESCRIPTION:Historic Home Tour and Reception \n\n\n\nSunday\, September 14\, 2025. Tours begin at 12:00\, 1:15 and 2:30pm. \n\n\n\nHistoric Whidbey invites you to step into Penn Cove’s past for a tour of two iconic \n\n\n\nhomes built in the earliest settlement days of the 1850’s. \n\n\n\nInformation and ticket purchase available at HistoricWhidbey.org.
URL:https://coupevillechamber.com/event/historic-home-tour-and-reception/
LOCATION:Historic Downtown Coupeville\, Front & Coveland Streets\, Coupeville\, Washington\, 98239\, United States
END:VEVENT
BEGIN:VEVENT
DTSTART;TZID=America/Los_Angeles:20250919T180000
DTEND;TZID=America/Los_Angeles:20250919T210000
DTSTAMP:20260420T122006
CREATED:20250905T214116Z
LAST-MODIFIED:20250905T214119Z
UID:10001899-1758304800-1758315600@coupevillechamber.com
SUMMARY:Fall Into School - Fundraising Event
DESCRIPTION:20250905_121925Download
URL:https://coupevillechamber.com/event/fall-into-school-fundraising-event/
LOCATION:Coupeville Rec Hall\, 901 NW Alexander St\, Coupeville\, Washington\, 98239\, United States
END:VEVENT
BEGIN:VEVENT
DTSTART;TZID=America/Los_Angeles:20250920T120000
DTEND;TZID=America/Los_Angeles:20250920T180000
DTSTAMP:20260420T122006
CREATED:20250905T214828Z
LAST-MODIFIED:20250905T214832Z
UID:10001901-1758369600-1758391200@coupevillechamber.com
SUMMARY:Cider Festival
DESCRIPTION:Tickets Now Available Please visit www.pacificriminstitute.org for tickets and all of the information  \n\n\n\nEnjoy live music\, browsing through vendor booths\, local food trucks\, and kids’ crafts.  Visitors are encouraged to take a walk on our over 2 miles of trails \n\n\n\n \n\n\n\nThere is no entrance cost for designated drivers or non-drinkers.
URL:https://coupevillechamber.com/event/cider-festival-3/
LOCATION:Pacific Rim Institute\, 180 Parker Road\, Coueville\, Washington\, 98239
END:VEVENT
END:VCALENDAR