BEGIN:VCALENDAR
VERSION:2.0
PRODID:-//Coupeville Chamber - ECPv6.15.20//NONSGML v1.0//EN
CALSCALE:GREGORIAN
METHOD:PUBLISH
X-WR-CALNAME:Coupeville Chamber
X-ORIGINAL-URL:https://coupevillechamber.com
X-WR-CALDESC:Events for Coupeville Chamber
REFRESH-INTERVAL;VALUE=DURATION:PT1H
X-Robots-Tag:noindex
X-PUBLISHED-TTL:PT1H
BEGIN:VTIMEZONE
TZID:America/Los_Angeles
BEGIN:DAYLIGHT
TZOFFSETFROM:-0800
TZOFFSETTO:-0700
TZNAME:PDT
DTSTART:20240310T100000
END:DAYLIGHT
BEGIN:STANDARD
TZOFFSETFROM:-0700
TZOFFSETTO:-0800
TZNAME:PST
DTSTART:20241103T090000
END:STANDARD
BEGIN:DAYLIGHT
TZOFFSETFROM:-0800
TZOFFSETTO:-0700
TZNAME:PDT
DTSTART:20250309T100000
END:DAYLIGHT
BEGIN:STANDARD
TZOFFSETFROM:-0700
TZOFFSETTO:-0800
TZNAME:PST
DTSTART:20251102T090000
END:STANDARD
BEGIN:DAYLIGHT
TZOFFSETFROM:-0800
TZOFFSETTO:-0700
TZNAME:PDT
DTSTART:20260308T100000
END:DAYLIGHT
BEGIN:STANDARD
TZOFFSETFROM:-0700
TZOFFSETTO:-0800
TZNAME:PST
DTSTART:20261101T090000
END:STANDARD
END:VTIMEZONE
BEGIN:VEVENT
DTSTART;TZID=America/Los_Angeles:20251123T100000
DTEND;TZID=America/Los_Angeles:20251123T110000
DTSTAMP:20260419T080004
CREATED:20251101T194000Z
LAST-MODIFIED:20251101T194004Z
UID:10001938-1763892000-1763895600@coupevillechamber.com
SUMMARY:Sunday Storytime at Kingfisher books
DESCRIPTION:Kingfisher books hosts Sunday Storytime each Sunday in November. This week “The Perfect Thanksgiving.” There will be arts and crafts after every story. \n\n\n\n \n\n\n\nFor more information please visit kingfisherbookstore.com or call 360-678-8463
URL:https://coupevillechamber.com/event/sunday-storytime-at-kingfisher-books-3/
LOCATION:Kingfisher Books\, 16 Front Street\, Coupeville\, Washington\, 98239
END:VEVENT
BEGIN:VEVENT
DTSTART;TZID=America/Los_Angeles:20251123T100000
DTEND;TZID=America/Los_Angeles:20251123T110000
DTSTAMP:20260419T080004
CREATED:20251101T194211Z
LAST-MODIFIED:20251101T194213Z
UID:10001939-1763892000-1763895600@coupevillechamber.com
SUMMARY:Sunday Storytime at Kingfisher books
DESCRIPTION:Kingfisher books hosts Sunday Storytime each Sunday in November. This week “Fox and the Mystery Letter.” There will be arts and crafts after every story. \n\n\n\n \n\n\n\nFor more information please visit kingfisherbookstore.com or call 360-678-8463
URL:https://coupevillechamber.com/event/sunday-storytime-at-kingfisher-books-4/
LOCATION:Kingfisher Books\, 16 Front Street\, Coupeville\, Washington\, 98239
END:VEVENT
END:VCALENDAR