BEGIN:VCALENDAR
VERSION:2.0
PRODID:-//Coupeville Chamber - ECPv6.15.20//NONSGML v1.0//EN
CALSCALE:GREGORIAN
METHOD:PUBLISH
X-WR-CALNAME:Coupeville Chamber
X-ORIGINAL-URL:https://coupevillechamber.com
X-WR-CALDESC:Events for Coupeville Chamber
REFRESH-INTERVAL;VALUE=DURATION:PT1H
X-Robots-Tag:noindex
X-PUBLISHED-TTL:PT1H
BEGIN:VTIMEZONE
TZID:America/Los_Angeles
BEGIN:DAYLIGHT
TZOFFSETFROM:-0800
TZOFFSETTO:-0700
TZNAME:PDT
DTSTART:20240310T100000
END:DAYLIGHT
BEGIN:STANDARD
TZOFFSETFROM:-0700
TZOFFSETTO:-0800
TZNAME:PST
DTSTART:20241103T090000
END:STANDARD
BEGIN:DAYLIGHT
TZOFFSETFROM:-0800
TZOFFSETTO:-0700
TZNAME:PDT
DTSTART:20250309T100000
END:DAYLIGHT
BEGIN:STANDARD
TZOFFSETFROM:-0700
TZOFFSETTO:-0800
TZNAME:PST
DTSTART:20251102T090000
END:STANDARD
BEGIN:DAYLIGHT
TZOFFSETFROM:-0800
TZOFFSETTO:-0700
TZNAME:PDT
DTSTART:20260308T100000
END:DAYLIGHT
BEGIN:STANDARD
TZOFFSETFROM:-0700
TZOFFSETTO:-0800
TZNAME:PST
DTSTART:20261101T090000
END:STANDARD
END:VTIMEZONE
BEGIN:VEVENT
DTSTART;TZID=America/Los_Angeles:20251207T100000
DTEND;TZID=America/Los_Angeles:20251207T160000
DTSTAMP:20260421T181556
CREATED:20251005T161925Z
LAST-MODIFIED:20251005T161928Z
UID:10001924-1765101600-1765123200@coupevillechamber.com
SUMMARY:Art Show and Sale Whidbey Allied Artists
DESCRIPTION:You will find it all at the Whidbey Allied Artists Show and Sale. There will be watercolors\, quilts\, oil\, glass\, pottery\, ceramics\, mixed media\, and so much more. Give a one of a kind gift this year or better yet  buy  something new just for you.
URL:https://coupevillechamber.com/event/art-show-and-sale-whidbey-allied-artists-12/
LOCATION:Coupeville Rec Hall\, 901 NW Alexander St\, Coupeville\, Washington\, 98239\, United States
END:VEVENT
BEGIN:VEVENT
DTSTART;TZID=America/Los_Angeles:20251207T100000
DTEND;TZID=America/Los_Angeles:20251207T170000
DTSTAMP:20260421T181556
CREATED:20251025T180833Z
LAST-MODIFIED:20251025T180837Z
UID:10001930-1765101600-1765126800@coupevillechamber.com
SUMMARY:Greenbank Farm - Holiday Markets
DESCRIPTION:Farm lights\, Artisan Gifts\, Festive food and drinks \n\n\n\nfor more information:  please visit info@portofcoupeville
URL:https://coupevillechamber.com/event/greenbank-farm-holiday-markets-2/
LOCATION:Greenbank Farm\, 765 Wonn Rd\, Greenbank\, Washington
END:VEVENT
BEGIN:VEVENT
DTSTART;TZID=America/Los_Angeles:20251207T110000
DTEND;TZID=America/Los_Angeles:20251207T160000
DTSTAMP:20260421T181556
CREATED:20251126T160204Z
LAST-MODIFIED:20251128T163125Z
UID:10001945-1765105200-1765123200@coupevillechamber.com
SUMMARY:A Coupeville Christmas Children's Corral
DESCRIPTION:Pictures with Santa\, Petting Zoo\, Crafts\, Games\, Cookies – and much more.  \n\n\n\nPlease join your neighbors and friends for this free family-centered event hosted by the Coupeville Chamber Foundation on the spacious grounds of Rain Shadow Nursery\, Coupeville. There is plenty of parking.  \n\n\n\nFor more information please call the Coupeville Chamber of Commerce 360-678-5434.
URL:https://coupevillechamber.com/event/a-coupeville-christmas-childrens-corral/
LOCATION:Rain Shadow Nursery\, 107 South Main\, Coupeville\, Washington\, 98239
END:VEVENT
BEGIN:VEVENT
DTSTART;TZID=America/Los_Angeles:20251207T143000
DTEND;TZID=America/Los_Angeles:20251207T160000
DTSTAMP:20260421T181556
CREATED:20251128T163355Z
LAST-MODIFIED:20251128T163357Z
UID:10001947-1765117800-1765123200@coupevillechamber.com
SUMMARY:Extravaganza: The Playhouse Christmas Spectacular
DESCRIPTION:Extravaganza: The Playhouse Christmas SpectacularStep into the magic of the season with Extravaganza: The Playhouse Christmas Spectacular! This dazzling holiday revue brings together the best of Christmas music\, laughter\, and heartwarming moments in one unforgettable show. Filled with festive performances that capture the joy and wonder of the holidays\, this production is a celebration for audiences of all ages. Celebrate the season with Whidbey Playhouse—where every sparkle\, song\, and story shines bright with Christmas cheer! \n\n\n\nEvening Performances\, 7:30 PM: December 5\, 13\, 19\, & 20. \n\n\n\nMatinee Performances\, 2:30 PM: December 6\,7\, & 21.$15 Reserved SeatingWww.whidbeyplayhouse.com Box Office: 360.679.2237Office@whidbeyplayhouse.com 
URL:https://coupevillechamber.com/event/extravaganza-the-playhouse-christmas-spectacular-6/
LOCATION:Whidbey Playhouse\, 730 SE MIDWAY BLVD\, OAK HARBOR\, 98277
END:VEVENT
BEGIN:VEVENT
DTSTART;TZID=America/Los_Angeles:20251212T190000
DTEND;TZID=America/Los_Angeles:20251212T210000
DTSTAMP:20260421T181556
CREATED:20251129T201147Z
LAST-MODIFIED:20251129T201152Z
UID:10001952-1765566000-1765573200@coupevillechamber.com
SUMMARY:Love's Pure Light - A Christmas Concert presented by Whidbey Community Chorus and Chamber Players
DESCRIPTION:Take a break and enjoy the season at this favorite Christmas concert.  \n\n\n\nAdmission is free. Donations gratefully accepted.
URL:https://coupevillechamber.com/event/loves-pure-light-a-christmas-concert-presented-by-whidbey-community-chorus-and-chamber-players/
LOCATION:First Reformed Church\, Oak Harbor\, 250 SW Third Ave\, Oak Harbor\, Washington
END:VEVENT
BEGIN:VEVENT
DTSTART;TZID=America/Los_Angeles:20251213T100000
DTEND;TZID=America/Los_Angeles:20251213T170000
DTSTAMP:20260421T181556
CREATED:20251025T180917Z
LAST-MODIFIED:20251025T180920Z
UID:10001931-1765620000-1765645200@coupevillechamber.com
SUMMARY:Greenbank Farm - Holiday Markets
DESCRIPTION:Farm lights\, Artisan Gifts\, Festive food and drinks \n\n\n\nfor more information:  please visit info@portofcoupeville
URL:https://coupevillechamber.com/event/greenbank-farm-holiday-markets-3/
LOCATION:Greenbank Farm\, 765 Wonn Rd\, Greenbank\, Washington
END:VEVENT
BEGIN:VEVENT
DTSTART;TZID=America/Los_Angeles:20251213T110000
DTEND;TZID=America/Los_Angeles:20251213T130000
DTSTAMP:20260421T181556
CREATED:20251129T193105Z
LAST-MODIFIED:20251129T234933Z
UID:10001949-1765623600-1765630800@coupevillechamber.com
SUMMARY:Kids Day - Coupeville Museum - Island County Historical Society
DESCRIPTION:KidsDay2025Download\n\n\n\nKidsDay2025Download
URL:https://coupevillechamber.com/event/kids-day-coupeville-museum-island-county-historical-society/
LOCATION:Washington
ORGANIZER;CN="Island County Historical Society":MAILTO:ed-ichs@whidbey.net
END:VEVENT
BEGIN:VEVENT
DTSTART;TZID=America/Los_Angeles:20251213T130000
DTEND;TZID=America/Los_Angeles:20251213T160000
DTSTAMP:20260421T181556
CREATED:20251129T194304Z
LAST-MODIFIED:20251129T194310Z
UID:10001950-1765630800-1765641600@coupevillechamber.com
SUMMARY:Peter and the Wolf presented by the Saratoga Orchestra
DESCRIPTION:The Saratoga Orchestra presents the timeless classic Peter and the Wolf.  There is an instrument petting zoo for all kids and kids-at-heart from 1-2pm and then from 2:30-4pm “A very Merry Whidbey Christmas.” All of this takes place at the Coupeville High School Commons\, 501 South Main\, Coupeville.  \n\n\n\nFor more information or online tickets visit www.sowhidbey.com  \n\n\n\nSuggested ticket price is $30 or pay what you wish. Students 17 and under are always free.
URL:https://coupevillechamber.com/event/peter-and-the-wolf-presented-by-the-saratoga-orchestra/
LOCATION:Coupeville High School Commons\, 510 S Main Street\, Coupeville\, Washington\, 98239
END:VEVENT
BEGIN:VEVENT
DTSTART;TZID=America/Los_Angeles:20251213T133000
DTEND;TZID=America/Los_Angeles:20251213T150000
DTSTAMP:20260421T181556
CREATED:20251129T195217Z
LAST-MODIFIED:20251129T195222Z
UID:10001951-1765632600-1765638000@coupevillechamber.com
SUMMARY:Christmas Concert and carol sing-a-long presented by All-Island Community Band
DESCRIPTION:What a great way to get in the spirit of Christmas.  Join us for this free Christmas concert with the talented musicians of the All Island Community Band.  The concert this year will be held at the Oak Harbor First United Methodist Church\, 1050 SE Ireland St. Oak Harbor.  \n\n\n\nDonations of non-perishable food items accepted on behalf of North Whidbey Help House
URL:https://coupevillechamber.com/event/christmas-concert-and-carol-sing-a-long-presented-by-all-island-community-band/
LOCATION:Oak Harbor First United Methodist Church\, 1050 SE Ireland St\, Oak Harbor
END:VEVENT
BEGIN:VEVENT
DTSTART;TZID=America/Los_Angeles:20251213T133000
DTEND;TZID=America/Los_Angeles:20251213T170000
DTSTAMP:20260421T181556
CREATED:20251202T212105Z
LAST-MODIFIED:20251202T212109Z
UID:10001955-1765632600-1765645200@coupevillechamber.com
SUMMARY:Cedar Angel Workshop - Island County Historical Society with Pamela SeaMonster
DESCRIPTION:doc00287120251202103849Download
URL:https://coupevillechamber.com/event/cedar-angel-workshop-island-county-historical-society-with-pamela-seamonster/
LOCATION:Island County Historical Museum\, 908 NW Alexander\, Coupeville\, Washington\, 98239
ORGANIZER;CN="Island County Historical Society":MAILTO:ed-ichs@whidbey.net
END:VEVENT
BEGIN:VEVENT
DTSTART;TZID=America/Los_Angeles:20251213T193000
DTEND;TZID=America/Los_Angeles:20251213T210000
DTSTAMP:20260421T181556
CREATED:20251126T155201Z
LAST-MODIFIED:20251126T155208Z
UID:10001942-1765654200-1765659600@coupevillechamber.com
SUMMARY:Extravaganza: The Playhouse Christmas Spectacular
DESCRIPTION:Extravaganza: The Playhouse Christmas SpectacularStep into the magic of the season with Extravaganza: The Playhouse Christmas Spectacular! This dazzling holiday revue brings together the best of Christmas music\, laughter\, and heartwarming moments in one unforgettable show. Filled with festive performances that capture the joy and wonder of the holidays\, this production is a celebration for audiences of all ages. Celebrate the season with Whidbey Playhouse—where every sparkle\, song\, and story shines bright with Christmas cheer! \n\n\n\nEvening Performances\, 7:30 PM: December 5\, 13\, 19\, & 20. \n\n\n\nMatinee Performances\, 2:30 PM: December 6\,7\, & 21.$15 Reserved SeatingWww.whidbeyplayhouse.com Box Office: 360.679.2237Office@whidbeyplayhouse.com 
URL:https://coupevillechamber.com/event/extravaganza-the-playhouse-christmas-spectacular-2/
LOCATION:Whidbey Playhouse\, 730 SE MIDWAY BLVD\, OAK HARBOR\, 98277
END:VEVENT
END:VCALENDAR