BEGIN:VCALENDAR
VERSION:2.0
PRODID:-//Coupeville Chamber - ECPv6.15.20//NONSGML v1.0//EN
CALSCALE:GREGORIAN
METHOD:PUBLISH
X-WR-CALNAME:Coupeville Chamber
X-ORIGINAL-URL:https://coupevillechamber.com
X-WR-CALDESC:Events for Coupeville Chamber
REFRESH-INTERVAL;VALUE=DURATION:PT1H
X-Robots-Tag:noindex
X-PUBLISHED-TTL:PT1H
BEGIN:VTIMEZONE
TZID:America/Los_Angeles
BEGIN:DAYLIGHT
TZOFFSETFROM:-0800
TZOFFSETTO:-0700
TZNAME:PDT
DTSTART:20250309T100000
END:DAYLIGHT
BEGIN:STANDARD
TZOFFSETFROM:-0700
TZOFFSETTO:-0800
TZNAME:PST
DTSTART:20251102T090000
END:STANDARD
BEGIN:DAYLIGHT
TZOFFSETFROM:-0800
TZOFFSETTO:-0700
TZNAME:PDT
DTSTART:20260308T100000
END:DAYLIGHT
BEGIN:STANDARD
TZOFFSETFROM:-0700
TZOFFSETTO:-0800
TZNAME:PST
DTSTART:20261101T090000
END:STANDARD
BEGIN:DAYLIGHT
TZOFFSETFROM:-0800
TZOFFSETTO:-0700
TZNAME:PDT
DTSTART:20270314T100000
END:DAYLIGHT
BEGIN:STANDARD
TZOFFSETFROM:-0700
TZOFFSETTO:-0800
TZNAME:PST
DTSTART:20271107T090000
END:STANDARD
END:VTIMEZONE
BEGIN:VEVENT
DTSTART;TZID=America/Los_Angeles:20260301T140000
DTEND;TZID=America/Los_Angeles:20260301T153000
DTSTAMP:20260419T224720
CREATED:20260208T162812Z
LAST-MODIFIED:20260208T162816Z
UID:10001975-1772373600-1772379000@coupevillechamber.com
SUMMARY:Whidbey Playhouse Family Variety Show!
DESCRIPTION:Join us for a joyful celebration of local talent at the Whidbey Playhouse Family Variety Show! This two-day-only fundraiser takes place Saturday\, February 28 at 7:00pm and Sunday\, March 1 at 2:00pm\, and features an exciting mix of performances for all ages\, including singing\, dance\, magic\, live music\, acting\, and more. Every ticket supports the Whidbey Playhouse\, with all proceeds benefiting our Theatre Improvement Fund—helping us care for and enhance the space we all love. Tickets are $15 for general admission. Come cheer on your neighbors\, enjoy an afternoon or evening of variety entertainment\, and support community theatre at its best.  For more information or tickets 360-679-2237.
URL:https://coupevillechamber.com/event/whidbey-playhouse-family-variety-show-2/
LOCATION:Whidbey Playhouse\, 730 SE MIDWAY BLVD\, OAK HARBOR\, 98277
END:VEVENT
BEGIN:VEVENT
DTSTART;TZID=America/Los_Angeles:20260302T000000
DTEND;TZID=America/Los_Angeles:20260302T235959
DTSTAMP:20260419T224720
CREATED:20260228T161030Z
LAST-MODIFIED:20260228T161139Z
UID:10002000-1772409600-1772495999@coupevillechamber.com
SUMMARY:YMCA Camp Casey Wellness Fitness Schedule
DESCRIPTION:20260225_134008Download
URL:https://coupevillechamber.com/event/ymca-camp-casey-wellness-fitness-schedule/
LOCATION:Camp Casey\, 1276 Engle Road\, Coupeville\, Washington\, 98239
END:VEVENT
BEGIN:VEVENT
DTSTART;TZID=America/Los_Angeles:20260307T100000
DTEND;TZID=America/Los_Angeles:20260307T170000
DTSTAMP:20260419T224720
CREATED:20251209T175831Z
LAST-MODIFIED:20251209T180205Z
UID:10001963-1772877600-1772902800@coupevillechamber.com
SUMMARY:Penn Cove Musselfest - Coupeville
DESCRIPTION:Please visit the website for all of the activities including when to buy your chowder tasting tickets \n\n\n\nwww.penncovemusselfest.com
URL:https://coupevillechamber.com/event/coupeville-musselfest/
LOCATION:Historic Downtown Coupeville\, Front & Coveland Streets\, Coupeville\, Washington\, 98239\, United States
END:VEVENT
END:VCALENDAR