BEGIN:VCALENDAR
VERSION:2.0
PRODID:-//Coupeville Chamber - ECPv6.15.20//NONSGML v1.0//EN
CALSCALE:GREGORIAN
METHOD:PUBLISH
X-WR-CALNAME:Coupeville Chamber
X-ORIGINAL-URL:https://coupevillechamber.com
X-WR-CALDESC:Events for Coupeville Chamber
REFRESH-INTERVAL;VALUE=DURATION:PT1H
X-Robots-Tag:noindex
X-PUBLISHED-TTL:PT1H
BEGIN:VTIMEZONE
TZID:America/Los_Angeles
BEGIN:DAYLIGHT
TZOFFSETFROM:-0800
TZOFFSETTO:-0700
TZNAME:PDT
DTSTART:20250309T100000
END:DAYLIGHT
BEGIN:STANDARD
TZOFFSETFROM:-0700
TZOFFSETTO:-0800
TZNAME:PST
DTSTART:20251102T090000
END:STANDARD
BEGIN:DAYLIGHT
TZOFFSETFROM:-0800
TZOFFSETTO:-0700
TZNAME:PDT
DTSTART:20260308T100000
END:DAYLIGHT
BEGIN:STANDARD
TZOFFSETFROM:-0700
TZOFFSETTO:-0800
TZNAME:PST
DTSTART:20261101T090000
END:STANDARD
BEGIN:DAYLIGHT
TZOFFSETFROM:-0800
TZOFFSETTO:-0700
TZNAME:PDT
DTSTART:20270314T100000
END:DAYLIGHT
BEGIN:STANDARD
TZOFFSETFROM:-0700
TZOFFSETTO:-0800
TZNAME:PST
DTSTART:20271107T090000
END:STANDARD
END:VTIMEZONE
BEGIN:VEVENT
DTSTART;TZID=America/Los_Angeles:20260621T140000
DTEND;TZID=America/Los_Angeles:20260621T160000
DTSTAMP:20260425T081211
CREATED:20260131T165302Z
LAST-MODIFIED:20260213T204508Z
UID:10001970-1782050400-1782057600@coupevillechamber.com
SUMMARY:Creative District Presents: Summer Concert Series - free admission
DESCRIPTION:These family-friendly concerts are free to the public and created to spotlight the creativity and musical diversity of our region. Expect an upbeat mix of genres — rock\, jazz\, brass\, and more — performed by local musicians and community ensembles. The Coupeville Creative District aims to create an afternoon of live music\, community gathering\, and celebration of local arts. \n\n\n\n2026 Summer Concert Series Poster (1) (2)Download
URL:https://coupevillechamber.com/event/summer-concert-series-free-admission/
LOCATION:Coupeville Town Park\, 6 Front Street NW\, Coupeville\, Washington\, 98239\, United States
END:VEVENT
BEGIN:VEVENT
DTSTART;TZID=America/Los_Angeles:20260623T083000
DTEND;TZID=America/Los_Angeles:20260623T100000
DTSTAMP:20260425T081211
CREATED:20260220T164647Z
LAST-MODIFIED:20260404T191652Z
UID:10001994-1782203400-1782208800@coupevillechamber.com
SUMMARY:Coupeville Chamber Member Meeting
DESCRIPTION:Join your fellow Chamber members and guests for networking\, a topical program and all of the up to date information on events\, projects and more.  \n\n\n\n8:30-9:00 networking and sharing \n\n\n\n9:00-10:00 announcements and program. This month’s program is from Whidbey Community Foundation.
URL:https://coupevillechamber.com/event/coupeville-chamber-member-meeting-12/
LOCATION:Coupeville Library\, 788 NW Alexander St.\, Coupeville\, Washington\, 98239
ORGANIZER;CN="Coupeville Chamber of Commerce":MAILTO:info@coupevillechamber.com
END:VEVENT
BEGIN:VEVENT
DTSTART;TZID=America/Los_Angeles:20260627T080000
DTEND;TZID=America/Los_Angeles:20260627T170000
DTSTAMP:20260425T081211
CREATED:20260213T203538Z
LAST-MODIFIED:20260213T203542Z
UID:10001980-1782547200-1782579600@coupevillechamber.com
SUMMARY:Lions Club Garage Sale
DESCRIPTION:The biggest and best in the Northwest.  Get there early.   \n\n\n\nFor more information or to donate please visit coupevillelions.com or call 360-678-4105.
URL:https://coupevillechamber.com/event/lions-club-garage-sale-3/
LOCATION:Coupeville Elementary School\, S. Main Street at Hwy 20\, Coupeville\, Washington\, 98239
END:VEVENT
BEGIN:VEVENT
DTSTART;TZID=America/Los_Angeles:20260627T100000
DTEND;TZID=America/Los_Angeles:20260627T140000
DTSTAMP:20260425T081211
CREATED:20260307T003917Z
LAST-MODIFIED:20260307T003922Z
UID:10002027-1782554400-1782568800@coupevillechamber.com
SUMMARY:Coupeville Farmers Market
DESCRIPTION:Local produce\, plants\, food and more.  Join us every Saturday April 18-Oct 10 for this home town event.
URL:https://coupevillechamber.com/event/coupeville-farmers-market-5/2026-06-27/
LOCATION:Coupeville Village Green (behind the library)\, 788 NW Alexander Street\, Coupeville\, Washington\, 98239
ORGANIZER;CN="North Central Whidbey Farmers Markets":MAILTO:coupevillefarmersmarketwa@gmail.com
END:VEVENT
END:VCALENDAR