BEGIN:VCALENDAR
VERSION:2.0
PRODID:-//Coupeville Chamber - ECPv6.15.20//NONSGML v1.0//EN
CALSCALE:GREGORIAN
METHOD:PUBLISH
X-ORIGINAL-URL:https://coupevillechamber.com
X-WR-CALDESC:Events for Coupeville Chamber
REFRESH-INTERVAL;VALUE=DURATION:PT1H
X-Robots-Tag:noindex
X-PUBLISHED-TTL:PT1H
BEGIN:VTIMEZONE
TZID:America/Los_Angeles
BEGIN:DAYLIGHT
TZOFFSETFROM:-0800
TZOFFSETTO:-0700
TZNAME:PDT
DTSTART:20210314T100000
END:DAYLIGHT
BEGIN:STANDARD
TZOFFSETFROM:-0700
TZOFFSETTO:-0800
TZNAME:PST
DTSTART:20211107T090000
END:STANDARD
BEGIN:DAYLIGHT
TZOFFSETFROM:-0800
TZOFFSETTO:-0700
TZNAME:PDT
DTSTART:20220313T100000
END:DAYLIGHT
BEGIN:STANDARD
TZOFFSETFROM:-0700
TZOFFSETTO:-0800
TZNAME:PST
DTSTART:20221106T090000
END:STANDARD
BEGIN:DAYLIGHT
TZOFFSETFROM:-0800
TZOFFSETTO:-0700
TZNAME:PDT
DTSTART:20230312T100000
END:DAYLIGHT
BEGIN:STANDARD
TZOFFSETFROM:-0700
TZOFFSETTO:-0800
TZNAME:PST
DTSTART:20231105T090000
END:STANDARD
BEGIN:DAYLIGHT
TZOFFSETFROM:-0800
TZOFFSETTO:-0700
TZNAME:PDT
DTSTART:20240310T100000
END:DAYLIGHT
BEGIN:STANDARD
TZOFFSETFROM:-0700
TZOFFSETTO:-0800
TZNAME:PST
DTSTART:20241103T090000
END:STANDARD
BEGIN:DAYLIGHT
TZOFFSETFROM:-0800
TZOFFSETTO:-0700
TZNAME:PDT
DTSTART:20250309T100000
END:DAYLIGHT
BEGIN:STANDARD
TZOFFSETFROM:-0700
TZOFFSETTO:-0800
TZNAME:PST
DTSTART:20251102T090000
END:STANDARD
BEGIN:DAYLIGHT
TZOFFSETFROM:-0800
TZOFFSETTO:-0700
TZNAME:PDT
DTSTART:20260308T100000
END:DAYLIGHT
BEGIN:STANDARD
TZOFFSETFROM:-0700
TZOFFSETTO:-0800
TZNAME:PST
DTSTART:20261101T090000
END:STANDARD
END:VTIMEZONE
BEGIN:VEVENT
DTSTART;TZID=America/Los_Angeles:20251213T133000
DTEND;TZID=America/Los_Angeles:20251213T150000
DTSTAMP:20260422T141759
CREATED:20251129T195217Z
LAST-MODIFIED:20251129T195222Z
UID:10001951-1765632600-1765638000@coupevillechamber.com
SUMMARY:Christmas Concert and carol sing-a-long presented by All-Island Community Band
DESCRIPTION:What a great way to get in the spirit of Christmas.  Join us for this free Christmas concert with the talented musicians of the All Island Community Band.  The concert this year will be held at the Oak Harbor First United Methodist Church\, 1050 SE Ireland St. Oak Harbor.  \n\n\n\nDonations of non-perishable food items accepted on behalf of North Whidbey Help House
URL:https://coupevillechamber.com/event/christmas-concert-and-carol-sing-a-long-presented-by-all-island-community-band/
LOCATION:Oak Harbor First United Methodist Church\, 1050 SE Ireland St\, Oak Harbor
END:VEVENT
BEGIN:VEVENT
DTSTART;TZID=America/Los_Angeles:20241212T183000
DTEND;TZID=America/Los_Angeles:20241212T200000
DTSTAMP:20260422T141759
CREATED:20241114T221828Z
LAST-MODIFIED:20241114T221833Z
UID:10001739-1734028200-1734033600@coupevillechamber.com
SUMMARY:Free Christmas Concert and                        Carol Sing-a-Long
DESCRIPTION:  The All-Island Community Band presents a free Christmas concert and carol sing-a-long.  December 12 at 6:30 PM   Oak Harbor Lutheran Church 1253 NW 2nd St Oak Harbor   Donations of non-perishable food items will be accepted on behalf of the North Whidbey Help-House. \n\n\n\nFor more information: allislandband@gmail.com
URL:https://coupevillechamber.com/event/free-christmas-concert-and-carol-sing-a-long/
LOCATION:Oak Harbor Lutheran Church\, 1253 NW 2nd St.\, Oak Harbor\, Indiana
END:VEVENT
BEGIN:VEVENT
DTSTART;TZID=America/Los_Angeles:20220814T130000
DTEND;TZID=America/Los_Angeles:20220814T140000
DTSTAMP:20260422T141759
CREATED:20220803T080856Z
LAST-MODIFIED:20220803T080902Z
UID:10000245-1660482000-1660485600@coupevillechamber.com
SUMMARY:Free Community Concert by the All-Island Community Band
DESCRIPTION:Our local community band is presenting a free concert featuring family-friendly music. Bring a friend\, a lawn chair\, and picnic!
URL:https://coupevillechamber.com/event/free-community-concert-by-the-all-island-community-band/
LOCATION:Coupeville Town Park\, 6 Front Street NW\, Coupeville\, Washington\, 98239\, United States
END:VEVENT
BEGIN:VEVENT
DTSTART;TZID=America/Los_Angeles:20220804T183000
DTEND;TZID=America/Los_Angeles:20220804T200000
DTSTAMP:20260422T141759
CREATED:20220803T080647Z
LAST-MODIFIED:20220803T080652Z
UID:10000244-1659637800-1659643200@coupevillechamber.com
SUMMARY:Free Concert by the Whidbey All-Island Community Band
DESCRIPTION:Our local community band is presenting a free concert featuring family-friendly music. Bring a friend\, a lawn chair\, and picnic!
URL:https://coupevillechamber.com/event/free-concert-by-the-whidbey-all-island-community-band/
LOCATION:Oak Harbor Marina Gazebo\, 1401 SE Catalina Dr\, Oak Harbor\, Washington\, 98277\, United States
END:VEVENT
END:VCALENDAR